BEGIN:VCALENDAR
VERSION:2.0
PRODID:-//KSHG - ECPv6.15.12.2//NONSGML v1.0//EN
CALSCALE:GREGORIAN
METHOD:PUBLISH
X-WR-CALNAME:KSHG
X-ORIGINAL-URL:https://www.kshg.de
X-WR-CALDESC:Veranstaltungen für KSHG
REFRESH-INTERVAL;VALUE=DURATION:PT1H
X-Robots-Tag:noindex
X-PUBLISHED-TTL:PT1H
BEGIN:VTIMEZONE
TZID:Europe/Berlin
BEGIN:DAYLIGHT
TZOFFSETFROM:+0100
TZOFFSETTO:+0200
TZNAME:CEST
DTSTART:20240331T010000
END:DAYLIGHT
BEGIN:STANDARD
TZOFFSETFROM:+0200
TZOFFSETTO:+0100
TZNAME:CET
DTSTART:20241027T010000
END:STANDARD
BEGIN:DAYLIGHT
TZOFFSETFROM:+0100
TZOFFSETTO:+0200
TZNAME:CEST
DTSTART:20250330T010000
END:DAYLIGHT
BEGIN:STANDARD
TZOFFSETFROM:+0200
TZOFFSETTO:+0100
TZNAME:CET
DTSTART:20251026T010000
END:STANDARD
BEGIN:DAYLIGHT
TZOFFSETFROM:+0100
TZOFFSETTO:+0200
TZNAME:CEST
DTSTART:20260329T010000
END:DAYLIGHT
BEGIN:STANDARD
TZOFFSETFROM:+0200
TZOFFSETTO:+0100
TZNAME:CET
DTSTART:20261025T010000
END:STANDARD
BEGIN:DAYLIGHT
TZOFFSETFROM:+0100
TZOFFSETTO:+0200
TZNAME:CEST
DTSTART:20270328T010000
END:DAYLIGHT
BEGIN:STANDARD
TZOFFSETFROM:+0200
TZOFFSETTO:+0100
TZNAME:CET
DTSTART:20271031T010000
END:STANDARD
END:VTIMEZONE
BEGIN:VEVENT
DTSTART;TZID=Europe/Berlin:20251228T080000
DTEND;TZID=Europe/Berlin:20260101T170000
DTSTAMP:20260422T110945
CREATED:20251112T102525Z
LAST-MODIFIED:20251117T090102Z
UID:10012699-1766908800-1767286800@www.kshg.de
SUMMARY:Fahrt zum Taizé-Treffen nach Paris (AUSGEBUCHT!)
DESCRIPTION:AUSGEBUCHT!! Möchtest du Silvester mit der Taizé-Gemeinschaft in Paris verbringen? Dann schließe dich uns während des 28.12.2025-01.01.2026 an und komm mit nach Paris zum internationalen Jugendtreff! \nGemeinsam wollen wir den Alltag von Taizé erleben. Wir werden gemeinsam in den großen Kirchen von Paris Gottesdienst feiern\, gemeinsam Mittagessen und Workshops besuchen. Untergebracht werden wir in Gastfamilien. \nDie Reise nach Paris werden wir in zwei Bullis antreten. Aus diesem Grund suchen wir begeisterte Autofahrer*innen die bereit sind einen Teil der Fahrt zu übernehmen. Die Reise richtet sich an junge Menschen zwischen 18 und 35 Jahren. \nDer Kosteneigenanteil liegt bei 70€. Komm mit auf dieses Abenteuer und verbring mit uns einen unvergesslichen Übergang ins Neue Jahr 2026. \nDeine Checkliste: Die Zusage eines gültigen Reisedokuments\, mit dem die französische Grenze überschritten werden kann\, Schlafsack und Isomatte\, (ggf.) gültiger Führerschein\, (freiwillig) Souvenirs für Gastfamilien
URL:https://www.kshg.de/event/paris/
LOCATION:Paris\, Paris\, Frankreich
CATEGORIES:Fahrten,News,Ökumenismus,Taizé
ATTACH;FMTTYPE=image/jpeg:https://www.kshg.de/wp-content/uploads/2025/11/IMG_2159.jpg
END:VEVENT
BEGIN:VEVENT
DTSTART;TZID=Europe/Berlin:20251229T200000
DTEND;TZID=Europe/Berlin:20251229T220000
DTSTAMP:20260422T110945
CREATED:20250203T142006Z
LAST-MODIFIED:20250203T143431Z
UID:10011700-1767038400-1767045600@www.kshg.de
SUMMARY:Probe des Gemeindechors „TROUBADIX‘ ERBEN“
DESCRIPTION:Spaß am Singen und an der Gemeinschaft sind für uns als jungen Gemeindechor der KSHG das wichtigste. Dabei legen wir großen Wert auf ein abwechslungsreiches Programm\, das wir in der Regel gegen Ende des Semesters in einem Konzert präsentieren. Da wir kein Kirchenchor sind\, legen wir uns nicht nur auf geistliche Musik fest. \nGeprobt wird immer montags von 20-22 Uhr (meistens) in der Aula der KSHG. Dazu gibt es einen Probensamstag\, an dem wir intensiv singen und uns als Gruppe nochmal besser kennen lernen können. \nNeuzugänge sind immer herzlich Willkommen\, Vorerfahrung brauchst du nicht mitzubringen und es gibt auch kein Vorsingen.\nBei Fragen wende dich gerne an unseren Chorleiter Henrik Wilkens (chor@kshg.de). Wir freuen uns auf dich!
URL:https://www.kshg.de/event/probe-des-gemeindechors-troubadix-erben-4/2025-12-29/
LOCATION:Aula
CATEGORIES:AK Liturgie und Musik,Chor,Musikgruppen
ATTACH;FMTTYPE=image/jpeg:https://www.kshg.de/wp-content/uploads/2024/09/P1030200-scaled-1.jpeg
GEO:51.96365;7.62131
END:VEVENT
BEGIN:VEVENT
DTSTART;TZID=Europe/Berlin:20251230T190000
DTEND;TZID=Europe/Berlin:20251230T200000
DTSTAMP:20260422T110945
CREATED:20230620T100701Z
LAST-MODIFIED:20240416T094536Z
UID:10005949-1767121200-1767124800@www.kshg.de
SUMMARY:19-Uhr-Gottesdienst am Dienstagabend
DESCRIPTION:Komm vorbei und feiere Gottesdienst! \nHerzliche Einladung an alle!
URL:https://www.kshg.de/event/19uhr-gottesdienst-am-dienstagabend-2-2-2/2025-12-30/
LOCATION:Kapelle  des TCC\, Albert-Schweitzer-Straße 40\, Münster\, 48149\, Germany
CATEGORIES:Digitale Stele,Gemeindeleben,Gottesdienste,Liturgie
ATTACH;FMTTYPE=image/jpeg:https://www.kshg.de/wp-content/uploads/2023/06/IMG_5770-min-scaled.jpg
END:VEVENT
BEGIN:VEVENT
DTSTART;TZID=Europe/Berlin:20251231T190000
DTEND;TZID=Europe/Berlin:20251231T200000
DTSTAMP:20260422T110945
CREATED:20251120T115046Z
LAST-MODIFIED:20251120T115046Z
UID:10012829-1767207600-1767211200@www.kshg.de
SUMMARY:Gottesdienst zum Jahresende
DESCRIPTION:
URL:https://www.kshg.de/event/gottesdienst-zum-jahresende/
LOCATION:Petrikirche
CATEGORIES:Gottesdienste,Gottesdienste Petrikirche,Liturgie,Ökumene,Ökumenismus
GEO:51.9617697;7.6225446
END:VEVENT
BEGIN:VEVENT
DTSTART;TZID=Europe/Berlin:20260104T110000
DTEND;TZID=Europe/Berlin:20260104T120000
DTSTAMP:20260422T110945
CREATED:20230215T072745Z
LAST-MODIFIED:20231218T074708Z
UID:10006205-1767524400-1767528000@www.kshg.de
SUMMARY:11-Uhr-Gottesdienst
DESCRIPTION:Komm vorbei und feier Gottesdienst!
URL:https://www.kshg.de/event/11-uhr-gottesdienst/2026-01-04/
LOCATION:Petrikirche
CATEGORIES:Digitale Stele,Gemeindeleben,Gottesdienste
ATTACH;FMTTYPE=image/jpeg:https://www.kshg.de/wp-content/uploads/2023/02/IMG_8626.jpg
GEO:51.9617697;7.6225446
END:VEVENT
BEGIN:VEVENT
DTSTART;TZID=Europe/Berlin:20260104T190000
DTEND;TZID=Europe/Berlin:20260104T200000
DTSTAMP:20260422T110945
CREATED:20251119T130503Z
LAST-MODIFIED:20251219T104646Z
UID:10012827-1767553200-1767556800@www.kshg.de
SUMMARY:19-Uhr-Gottesdienst
DESCRIPTION:Komm vorbei und feier Gottesdienst!
URL:https://www.kshg.de/event/19-uhr-gottesdienst-5/2026-01-04/
LOCATION:Petrikirche
CATEGORIES:Gottesdienste,Gottesdienste Petrikirche,Liturgie
GEO:51.9617697;7.6225446
END:VEVENT
END:VCALENDAR